BEGIN:VCALENDAR
VERSION:2.0
PRODID:Teste 
X-WR-CALNAME:Teste 
X-WR-TIMEZONE:Europe/Lisbon
X-PUBLISHED-TTL:P1W
BEGIN:VTIMEZONE
TZID:Europe/Lisbon
X-LIC-LOCATION:Europe/Lisbon
END:VTIMEZONE
BEGIN:VEVENT
UID:69eb30b1f3e77
DTSTART;VALUE=DATE:20250111
SEQUENCE:0
TRANSP:OPAQUE
DTEND;VALUE=DATE:20250112
SUMMARY:Teste 
CLASS:PUBLIC
DESCRIPTION:programa do evento&nbsp\;
X-MICROSOFT-CDO-ALLDAYEVENT:TRUE
DTSTAMP:20260424T085826Z
END:VEVENT
END:VCALENDAR